BEGIN:VCALENDAR
VERSION:2.0
PRODID:-//hacksw/handcal//NONSGML v1.0//EN
BEGIN:VEVENT
DTSTAMP:20251207T230000Z
DTSTART:20251207T230000Z
DTEND:20251207T230000Z
LOCATION:Kreisgeschäftsstelle der CDU Potsdam, Gregor-Mendel-Straße 3, Potsdam, 14469, Deutschland
SUMMARY:Zeitzeugengespräch mit Maria von Pawelsz-Wolf
END:VEVENT
END:VCALENDAR
