BEGIN:VCALENDAR
VERSION:2.0
PRODID:-//hacksw/handcal//NONSGML v1.0//EN
BEGIN:VEVENT
DTSTAMP:20250615T110000Z
DTSTART:20250615T110000Z
DTEND:20250615T110000Z
LOCATION:Wiese an der Erwin-Barth-Straße, Deutschland
SUMMARY:Stadtteilfest Bornstedt
END:VEVENT
END:VCALENDAR
