BEGIN:VCALENDAR
VERSION:2.0
PRODID:-//hacksw/handcal//NONSGML v1.0//EN
BEGIN:VEVENT
DTSTAMP:20250509T120000Z
DTSTART:20250509T120000Z
DTEND:20250509T120000Z
LOCATION:Alter Markt, Deutschland
SUMMARY:Potsdamer Europafest
END:VEVENT
END:VCALENDAR
