BEGIN:VCALENDAR
VERSION:2.0
PRODID:-//hacksw/handcal//NONSGML v1.0//EN
BEGIN:VEVENT
DTSTAMP:20250511T090000Z
DTSTART:20250511T090000Z
DTEND:20250511T090000Z
LOCATION:Brandenburger Straße / Ecke Lindenstraße, Deutschland
SUMMARY:Aktion zum Muttertag
END:VEVENT
END:VCALENDAR
