BEGIN:VCALENDAR
VERSION:2.0
PRODID:-//hacksw/handcal//NONSGML v1.0//EN
BEGIN:VEVENT
DTSTAMP:20250621T110000Z
DTSTART:20250621T110000Z
DTEND:20250621T110000Z
LOCATION:CDU Kreisgeschäftsstelle, Gregor-Mendel-Straße 3, Potsdam, 14469, Deutschland
SUMMARY:Nordkonferenz
END:VEVENT
END:VCALENDAR
