BEGIN:VCALENDAR
VERSION:2.0
PRODID:-//hacksw/handcal//NONSGML v1.0//EN
BEGIN:VEVENT
DTSTAMP:20260218T180000Z
DTSTART:20260218T180000Z
DTEND:20260218T180000Z
LOCATION:CDU Kreisgeschäftsstelle, Gregor-Mendel-Straße 3, Potsdam, 14469, Deutschland
SUMMARY:Vorstandssitzung der Jungen Union Potsdam
END:VEVENT
END:VCALENDAR
